BEGIN:VCALENDAR
VERSION:2.0
PRODID:-//Super Rad Arcade Bar - ECPv6.15.20//NONSGML v1.0//EN
CALSCALE:GREGORIAN
METHOD:PUBLISH
X-WR-CALNAME:Super Rad Arcade Bar
X-ORIGINAL-URL:https://thesuperradarcade.com
X-WR-CALDESC:Events for Super Rad Arcade Bar
REFRESH-INTERVAL;VALUE=DURATION:PT1H
X-Robots-Tag:noindex
X-PUBLISHED-TTL:PT1H
BEGIN:VTIMEZONE
TZID:America/New_York
BEGIN:DAYLIGHT
TZOFFSETFROM:-0500
TZOFFSETTO:-0400
TZNAME:EDT
DTSTART:20250309T070000
END:DAYLIGHT
BEGIN:STANDARD
TZOFFSETFROM:-0400
TZOFFSETTO:-0500
TZNAME:EST
DTSTART:20251102T060000
END:STANDARD
BEGIN:DAYLIGHT
TZOFFSETFROM:-0500
TZOFFSETTO:-0400
TZNAME:EDT
DTSTART:20260308T070000
END:DAYLIGHT
BEGIN:STANDARD
TZOFFSETFROM:-0400
TZOFFSETTO:-0500
TZNAME:EST
DTSTART:20261101T060000
END:STANDARD
BEGIN:DAYLIGHT
TZOFFSETFROM:-0500
TZOFFSETTO:-0400
TZNAME:EDT
DTSTART:20270314T070000
END:DAYLIGHT
BEGIN:STANDARD
TZOFFSETFROM:-0400
TZOFFSETTO:-0500
TZNAME:EST
DTSTART:20271107T060000
END:STANDARD
END:VTIMEZONE
BEGIN:VEVENT
DTSTART;TZID=America/New_York:20260501T180000
DTEND;TZID=America/New_York:20260501T233000
DTSTAMP:20260423T082716
CREATED:20260403T012038Z
LAST-MODIFIED:20260403T012043Z
UID:21227-1777658400-1777678200@thesuperradarcade.com
SUMMARY:Super Rad 2nd Anniversary: Birthday Weekend (Friday Night!)
DESCRIPTION:Super Rad 2nd Anniversary: Birthday Weekend (Friday Night!)\n\n\n\n\n\n\n\n\n\n\n\n\n\n\n\nCome help us blow out the candles as we kick off a massive Super Rad Birthday Weekend! On Friday\, May 1st\, we are celebrating our 2nd Anniversary with a stacked local lineup and a party that spans the whole arcade. \n\n\n\nThe Friday night showcase features a “who’s who” of local favorites: \n\n\n\n\nSuper Sad\n\n\n\nHer Majesty\n\n\n\nThe Late Virginia Summers\n\n\n\nB Side Rockers\n\n\n\n501 Coyotes\n\n\n\n\nEntry is only $10\, and as always\, that gets you full access to the bands plus unlimited arcade games all night long. Let’s kick off year three with a bang! \n\n\n\n\n\n\n\nEvent Details:\n\n\n\nAges: All Ages Welcome \n\n\n\nWho: Super Sad\, Her Majesty\, The Late Virginia Summers\, B Side Rockers\, and 501 Coyotes \n\n\n\nWhen: Friday\, May 1st\, 2026 \n\n\n\nDoors: 6:00 PM \n\n\n\nMusic: 7:00 PM \n\n\n\nAdmission: $10 \n\n\n\n\n\n\n\n\n\n\n\n\n\nWhen?\n\n\n\nMay 1st @ 6PM – 1AM\n\n\n\nADMISSION: $10 \n\n\n\n \n\n\n\n\n\nWhere?\n\n\n\nThe Super Rad Arcade Bar\n\n\n\n58 9th St.\, Lynchburg\, Virginia 24504 \n\n\n\n\n\n\n\n\n\n\n\n\n\nCOUNTDOWN!\n\n\n\n00Days00Hours00Minutes00Seconds\n\n\n\n\n\n\n\n\n\n\n\n\n\nShare this event\n\n\n\n    \n        \n            \n                                    \n                        \n                                                                                        Facebook\n                                                    \n                    \n                                    \n                        \n                                                                                        Linkedin
URL:https://thesuperradarcade.com/event/super-rad-2nd-anniversary-birthday-weekend-friday-night/
ATTACH;FMTTYPE=image/jpeg:https://thesuperradarcade.com/wp-content/uploads/2026/04/657328921_17981303366995966_2454239797000173180_n.jpg
END:VEVENT
END:VCALENDAR