BEGIN:VCALENDAR
VERSION:2.0
PRODID:-//Super Rad Arcade Bar - ECPv6.15.20//NONSGML v1.0//EN
CALSCALE:GREGORIAN
METHOD:PUBLISH
X-ORIGINAL-URL:https://thesuperradarcade.com
X-WR-CALDESC:Events for Super Rad Arcade Bar
REFRESH-INTERVAL;VALUE=DURATION:PT1H
X-Robots-Tag:noindex
X-PUBLISHED-TTL:PT1H
BEGIN:VTIMEZONE
TZID:America/New_York
BEGIN:DAYLIGHT
TZOFFSETFROM:-0500
TZOFFSETTO:-0400
TZNAME:EDT
DTSTART:20250309T070000
END:DAYLIGHT
BEGIN:STANDARD
TZOFFSETFROM:-0400
TZOFFSETTO:-0500
TZNAME:EST
DTSTART:20251102T060000
END:STANDARD
BEGIN:DAYLIGHT
TZOFFSETFROM:-0500
TZOFFSETTO:-0400
TZNAME:EDT
DTSTART:20260308T070000
END:DAYLIGHT
BEGIN:STANDARD
TZOFFSETFROM:-0400
TZOFFSETTO:-0500
TZNAME:EST
DTSTART:20261101T060000
END:STANDARD
BEGIN:DAYLIGHT
TZOFFSETFROM:-0500
TZOFFSETTO:-0400
TZNAME:EDT
DTSTART:20270314T070000
END:DAYLIGHT
BEGIN:STANDARD
TZOFFSETFROM:-0400
TZOFFSETTO:-0500
TZNAME:EST
DTSTART:20271107T060000
END:STANDARD
END:VTIMEZONE
BEGIN:VEVENT
DTSTART;TZID=America/New_York:20260425T190000
DTEND;TZID=America/New_York:20260425T233000
DTSTAMP:20260423T073559
CREATED:20260326T205302Z
LAST-MODIFIED:20260406T171101Z
UID:21057-1777143600-1777159800@thesuperradarcade.com
SUMMARY:The Battle of the East Coast: Babes Against The Machine & Issues!
DESCRIPTION:The Battle of the East Coast: Babes Against The Machine & Issues!\n\n\n\n\n\n\n\n\n\n\n\n\n\n\n\nGet ready for a heavy dose of nostalgia and high-octane tribute power! On Saturday\, April 25th\, we are bringing “The Battle of the East Coast” to the arcade. \n\n\n\nHeadlining the night is Babes Against The Machine\, the world’s only all-female tribute to Rage Against The Machine. Joining them is Issues\, a dedicated Korn tribute\, and local favorites Super Sad. From the riffs of the 90s to the nu-metal energy of the 00s\, this is a lineup built for the pit. \n\n\n\nAs always\, your $15 entry includes the full show plus unlimited arcade games all night long. \n\n\n\n\n\n\n\nEvent Details:\n\n\n\n\nWho: Babes Against The Machine\, Issues (Korn Tribute)\, and Super Sad\n\n\n\nWhen: Saturday\, April 25th\, 2026\n\n\n\nAdmission: $15\n\n\n\nAges: All Ages Welcome\n\n\n\nAt Super Rad Arcade Bar\n\n\n\n\n\n\n\n\nCome for the riffs\, stay for the high scores. Let’s make some noise! \n\n\n\n\n\n\n\n\n\n\n\n\n\nWhen?\n\n\n\nApril 25th @ 8PM – 11pM\n\n\n\nADMISSION: $15 \n\n\n\n \n\n\n\n\n\nWhere?\n\n\n\nThe Super Rad Arcade Bar\n\n\n\n58 9th St.\, Lynchburg\, Virginia 24504 \n\n\n\n\n\n\n\n\n\n\n\n\n\nCOUNTDOWN!\n\n\n\n00Days00Hours00Minutes00Seconds\n\n\n\n\n\n\n\n\n\n\n\n\n\nShare this event\n\n\n\n    \n        \n            \n                                    \n                        \n                                                                                        Facebook\n                                                    \n                    \n                                    \n                        \n                                                                                        Linkedin
URL:https://thesuperradarcade.com/event/the-battle-of-the-east-coast-babes-against-the-machine-issues/
LOCATION:Super Rad Arcade Bar\, 58 9th St\, Lynchburg\, VA\, 24504\, United States
ATTACH;FMTTYPE=image/jpeg:https://thesuperradarcade.com/wp-content/uploads/2026/03/superradarcade_1770235932_3825337301401183817_59771099965.jpg
END:VEVENT
END:VCALENDAR