BEGIN:VCALENDAR
VERSION:2.0
PRODID:-//Super Rad Arcade Bar - ECPv6.15.20//NONSGML v1.0//EN
CALSCALE:GREGORIAN
METHOD:PUBLISH
X-WR-CALNAME:Super Rad Arcade Bar
X-ORIGINAL-URL:https://thesuperradarcade.com
X-WR-CALDESC:Events for Super Rad Arcade Bar
REFRESH-INTERVAL;VALUE=DURATION:PT1H
X-Robots-Tag:noindex
X-PUBLISHED-TTL:PT1H
BEGIN:VTIMEZONE
TZID:America/New_York
BEGIN:DAYLIGHT
TZOFFSETFROM:-0500
TZOFFSETTO:-0400
TZNAME:EDT
DTSTART:20250309T070000
END:DAYLIGHT
BEGIN:STANDARD
TZOFFSETFROM:-0400
TZOFFSETTO:-0500
TZNAME:EST
DTSTART:20251102T060000
END:STANDARD
BEGIN:DAYLIGHT
TZOFFSETFROM:-0500
TZOFFSETTO:-0400
TZNAME:EDT
DTSTART:20260308T070000
END:DAYLIGHT
BEGIN:STANDARD
TZOFFSETFROM:-0400
TZOFFSETTO:-0500
TZNAME:EST
DTSTART:20261101T060000
END:STANDARD
BEGIN:DAYLIGHT
TZOFFSETFROM:-0500
TZOFFSETTO:-0400
TZNAME:EDT
DTSTART:20270314T070000
END:DAYLIGHT
BEGIN:STANDARD
TZOFFSETFROM:-0400
TZOFFSETTO:-0500
TZNAME:EST
DTSTART:20271107T060000
END:STANDARD
END:VTIMEZONE
BEGIN:VEVENT
DTSTART;TZID=America/New_York:20260424T190000
DTEND;TZID=America/New_York:20260424T233000
DTSTAMP:20260423T083156
CREATED:20260326T202915Z
LAST-MODIFIED:20260326T202919Z
UID:21052-1777057200-1777073400@thesuperradarcade.com
SUMMARY:Spring Breakdown 2026: Rust • Powerplay • Chained • Speak Truth
DESCRIPTION:Spring Breakdown 2026: Rust • Powerplay • Chained • Speak Truth\n\n\n\n\n\n\n\n\n\n\n\n\n\n\n\nGear up for the ultimate heavy-hitting Friday night! On April 24th\, we are bringing the Spring Breakdown 2026 tour to the arcade. This is a massive four-band bill designed to push the sound system to its limit. \n\n\n\nHeadlining the night is the metallic hardcore powerhouse Rust\, joined by the relentless energy of Powerplay and the aggressive beatdown style of Chained. Kicking things off is local support from Speak Truth\, ensuring the energy is high from the very first riff. \n\n\n\nAs always\, your admission gets you full access to the show plus unlimited arcade games all night long. Whether you’re in the pit or at a cabinet\, this is the only place to be on a Friday night. \n\n\n\n\n\n\n\nEvent Details:\n\n\n\n\nWho: Rust\, Powerplay\, Chained\, and Speak Truth\n\n\n\nWhen: Friday\, April 24th\, 2026\n\n\n\nDoors: 6:00 PM\n\n\n\nMusic: 7:00 PM\n\n\n\nAdmission: $12\n\n\n\nAges: All Ages Welcome\n\n\n\nAt Super Rad Arcade Bar\n\n\n\n\n\n\n\n\nGrab your friends\, get to the front\, and let’s kick off the spring season with some pure chaos. See you at the arcade! \n\n\n\n\n\n\n\n\n\n\n\n\n\nWhen?\n\n\n\nAprik 24th @ 7PM – 11pM\n\n\n\nADMISSION: $12 \n\n\n\n \n\n\n\n\n\nWhere?\n\n\n\nThe Super Rad Arcade Bar\n\n\n\n58 9th St.\, Lynchburg\, Virginia 24504 \n\n\n\n\n\n\n\n\n\n\n\n\n\nCOUNTDOWN!\n\n\n\n00Days00Hours00Minutes00Seconds\n\n\n\n\n\n\n\n\n\n\n\n\n\nShare this event\n\n\n\n    \n        \n            \n                                    \n                        \n                                                                                        Facebook\n                                                    \n                    \n                                    \n                        \n                                                                                        Linkedin
URL:https://thesuperradarcade.com/event/spring-breakdown-2026-rust-powerplay-chained-speak-truth/
ATTACH;FMTTYPE=image/jpeg:https://thesuperradarcade.com/wp-content/uploads/2026/03/hardresetpromotions_1774449457_3860684309313432097_55995370623.jpg
END:VEVENT
END:VCALENDAR