BEGIN:VCALENDAR
VERSION:2.0
PRODID:-//Super Rad Arcade Bar - ECPv6.15.20//NONSGML v1.0//EN
CALSCALE:GREGORIAN
METHOD:PUBLISH
X-WR-CALNAME:Super Rad Arcade Bar
X-ORIGINAL-URL:https://thesuperradarcade.com
X-WR-CALDESC:Events for Super Rad Arcade Bar
REFRESH-INTERVAL;VALUE=DURATION:PT1H
X-Robots-Tag:noindex
X-PUBLISHED-TTL:PT1H
BEGIN:VTIMEZONE
TZID:America/New_York
BEGIN:DAYLIGHT
TZOFFSETFROM:-0500
TZOFFSETTO:-0400
TZNAME:EDT
DTSTART:20250309T070000
END:DAYLIGHT
BEGIN:STANDARD
TZOFFSETFROM:-0400
TZOFFSETTO:-0500
TZNAME:EST
DTSTART:20251102T060000
END:STANDARD
BEGIN:DAYLIGHT
TZOFFSETFROM:-0500
TZOFFSETTO:-0400
TZNAME:EDT
DTSTART:20260308T070000
END:DAYLIGHT
BEGIN:STANDARD
TZOFFSETFROM:-0400
TZOFFSETTO:-0500
TZNAME:EST
DTSTART:20261101T060000
END:STANDARD
BEGIN:DAYLIGHT
TZOFFSETFROM:-0500
TZOFFSETTO:-0400
TZNAME:EDT
DTSTART:20270314T070000
END:DAYLIGHT
BEGIN:STANDARD
TZOFFSETFROM:-0400
TZOFFSETTO:-0500
TZNAME:EST
DTSTART:20271107T060000
END:STANDARD
END:VTIMEZONE
BEGIN:VEVENT
DTSTART;TZID=America/New_York:20260417T200000
DTEND;TZID=America/New_York:20260417T233000
DTSTAMP:20260423T085102
CREATED:20260327T162118Z
LAST-MODIFIED:20260327T162127Z
UID:21085-1776456000-1776468600@thesuperradarcade.com
SUMMARY:Tiger Would! • Ethereal Element • SALTUPONWOUNDS
DESCRIPTION:Tiger Would! • Ethereal Element • SALTUPONWOUNDS\n\n\n\n\n\n\n\n\n\n\n\n\n\n\n\nGet ready for a Friday night of local talent and high-energy performances! On April 17th\, we are bringing a heavy three-band bill to the arcade featuring some of the best sounds the region has to offer. \n\n\n\nThe night kicks off with the crushing energy of SALTUPONWOUNDS\, followed by the atmospheric vibes of Ethereal Element. Closing out the night is the high-octane performance of Tiger Would!. Whether you’re here to support the local scene or to set a new high score on the pins\, this is a lineup you can’t miss. \n\n\n\nAs always\, your $15 admission covers the entire show plus unlimited arcade games for the night! \n\n\n\n\n\n\n\nEvent Details:\n\n\n\n\nWho: Tiger Would!\, Ethereal Element\, and SALTUPONWOUNDS\n\n\n\nWhen: Friday\, April 17th\, 2026\n\n\n\nDoors: 7:00 PM\n\n\n\nMusic: 8:00 PM\n\n\n\nAdmission: $15 Day of Show\n\n\n\nAges: All Ages Welcome\n\n\n\n\n\n\n\n\nGrab your friends and head down to 9th street for a night of music and gaming. See you at the arcade! \n\n\n\n\n\n\n\n\n\n\n\n\n\nWhen?\n\n\n\nApril 17th @ 8PM – 11pM\n\n\n\nADMISSION: $15 DoS \n\n\n\n \n\n\n\n\n\nWhere?\n\n\n\nThe Super Rad Arcade Bar\n\n\n\n58 9th St.\, Lynchburg\, Virginia 24504 \n\n\n\n\n\n\n\n\n\n\n\n\n\nCOUNTDOWN!\n\n\n\n00Days00Hours00Minutes00Seconds\n\n\n\n\n\n\n\n\n\n\n\n\n\nShare this event\n\n\n\n    \n        \n            \n                                    \n                        \n                                                                                        Facebook\n                                                    \n                    \n                                    \n                        \n                                                                                        Linkedin
URL:https://thesuperradarcade.com/event/tiger-would-ethereal-element-saltuponwounds/
LOCATION:Super Rad Arcade Bar\, 58 9th St\, Lynchburg\, VA\, 24504\, United States
ATTACH;FMTTYPE=image/jpeg:https://thesuperradarcade.com/wp-content/uploads/2026/03/superradarcade_1773425563_3852095164332981072_59771099965.jpg
END:VEVENT
END:VCALENDAR