BEGIN:VCALENDAR
VERSION:2.0
PRODID:-//Super Rad Arcade Bar - ECPv6.15.20//NONSGML v1.0//EN
CALSCALE:GREGORIAN
METHOD:PUBLISH
X-ORIGINAL-URL:https://thesuperradarcade.com
X-WR-CALDESC:Events for Super Rad Arcade Bar
REFRESH-INTERVAL;VALUE=DURATION:PT1H
X-Robots-Tag:noindex
X-PUBLISHED-TTL:PT1H
BEGIN:VTIMEZONE
TZID:America/New_York
BEGIN:DAYLIGHT
TZOFFSETFROM:-0500
TZOFFSETTO:-0400
TZNAME:EDT
DTSTART:20250309T070000
END:DAYLIGHT
BEGIN:STANDARD
TZOFFSETFROM:-0400
TZOFFSETTO:-0500
TZNAME:EST
DTSTART:20251102T060000
END:STANDARD
BEGIN:DAYLIGHT
TZOFFSETFROM:-0500
TZOFFSETTO:-0400
TZNAME:EDT
DTSTART:20260308T070000
END:DAYLIGHT
BEGIN:STANDARD
TZOFFSETFROM:-0400
TZOFFSETTO:-0500
TZNAME:EST
DTSTART:20261101T060000
END:STANDARD
BEGIN:DAYLIGHT
TZOFFSETFROM:-0500
TZOFFSETTO:-0400
TZNAME:EDT
DTSTART:20270314T070000
END:DAYLIGHT
BEGIN:STANDARD
TZOFFSETFROM:-0400
TZOFFSETTO:-0500
TZNAME:EST
DTSTART:20271107T060000
END:STANDARD
END:VTIMEZONE
BEGIN:VEVENT
DTSTART;TZID=America/New_York:20260415T193000
DTEND;TZID=America/New_York:20260415T230000
DTSTAMP:20260423T082757
CREATED:20260406T172000Z
LAST-MODIFIED:20260415T144951Z
UID:21277-1776281400-1776294000@thesuperradarcade.com
SUMMARY:Moony Live at Super Rad!
DESCRIPTION:Moony Live at Super Rad!\n\n\n\n\n\n\n\n\n\n\n\n\n\n\n\nGet ready for a mid-week dose of indie-rock energy! On Wednesday\, April 15th\, we are stoked to host Moony as they bring their tour to the arcade. Known for their high-energy performances and catchy riffs\, this is a show you won’t want to miss. \n\n\n\nAs always\, your entry gets you full access to the show plus unlimited arcade games all night long. Whether you’re here for the music or to set a new high score\, it’s the perfect way to spend your Wednesday night. \n\n\n\nEvent Details:\n\n\n\nAges: All Ages Welcome \n\n\n\nWho: Moony \n\n\n\nWhen: Wednesday\, April 15th\, 2026 \n\n\n\nMusic: 7:30 PM \n\n\n\nTickets: Tickets available at the door \n\n\n\n\n\n\n\n\n\n\n\n\n\nWhen?\n\n\n\nApril 15th @ 7:30PM – 11pM\n\n\n\n \n\n\n\n\n\nWhere?\n\n\n\nThe Super Rad Arcade Bar\n\n\n\n58 9th St.\, Lynchburg\, Virginia 24504 \n\n\n\n\n\n\n\n\n\n\n\n\n\nCOUNTDOWN!\n\n\n\n00Days00Hours00Minutes00Seconds\n\n\n\n\n\n\n\n\n\n\n\n\n\nShare this event\n\n\n\n    \n        \n            \n                                    \n                        \n                                                                                        Facebook\n                                                    \n                    \n                                    \n                        \n                                                                                        Linkedin
URL:https://thesuperradarcade.com/event/moony-live-at-super-rad/
ATTACH;FMTTYPE=image/jpeg:https://thesuperradarcade.com/wp-content/uploads/2026/04/ab6761610000e5eb207ac9dd252aa13bfc05c7a3.jpg
END:VEVENT
END:VCALENDAR