BEGIN:VCALENDAR
VERSION:2.0
PRODID:-//Super Rad Arcade Bar - ECPv6.15.20//NONSGML v1.0//EN
CALSCALE:GREGORIAN
METHOD:PUBLISH
X-ORIGINAL-URL:https://thesuperradarcade.com
X-WR-CALDESC:Events for Super Rad Arcade Bar
REFRESH-INTERVAL;VALUE=DURATION:PT1H
X-Robots-Tag:noindex
X-PUBLISHED-TTL:PT1H
BEGIN:VTIMEZONE
TZID:America/New_York
BEGIN:DAYLIGHT
TZOFFSETFROM:-0500
TZOFFSETTO:-0400
TZNAME:EDT
DTSTART:20250309T070000
END:DAYLIGHT
BEGIN:STANDARD
TZOFFSETFROM:-0400
TZOFFSETTO:-0500
TZNAME:EST
DTSTART:20251102T060000
END:STANDARD
BEGIN:DAYLIGHT
TZOFFSETFROM:-0500
TZOFFSETTO:-0400
TZNAME:EDT
DTSTART:20260308T070000
END:DAYLIGHT
BEGIN:STANDARD
TZOFFSETFROM:-0400
TZOFFSETTO:-0500
TZNAME:EST
DTSTART:20261101T060000
END:STANDARD
BEGIN:DAYLIGHT
TZOFFSETFROM:-0500
TZOFFSETTO:-0400
TZNAME:EDT
DTSTART:20270314T070000
END:DAYLIGHT
BEGIN:STANDARD
TZOFFSETFROM:-0400
TZOFFSETTO:-0500
TZNAME:EST
DTSTART:20271107T060000
END:STANDARD
END:VTIMEZONE
BEGIN:VEVENT
DTSTART;TZID=America/New_York:20260404T180000
DTEND;TZID=America/New_York:20260404T200000
DTSTAMP:20260423T085930
CREATED:20260321T013327Z
LAST-MODIFIED:20260321T013416Z
UID:20995-1775325600-1775332800@thesuperradarcade.com
SUMMARY:🏎️ Mario Kart Night: Regal Cinemas Takeover!
DESCRIPTION:🏎️ Mario Kart Night: Regal Cinemas Takeover!\n\n\n\n\n\n\n\n\n\n\n\n\n\n\n\nStart your engines\, Lynchburg! To celebrate the release of The Super Mario Galaxy Movie\, we are hosting a massive Mario Kart Night on April 4th! \n\n\n\nWhether you’re a retro drifting pro or a modern racing master\, we have the lineup for you. We’ll have multiple generations of the classic racer ready to play\, including: \n\n\n\n\nMario Kart 64\n\n\n\nDouble Dash\n\n\n\nWii\n\n\n\n8 Deluxe\n\n\n\nWorld\n\n\n\n\nJoin us at Regal Cinemas for a night of blue shells\, banana peels\, and pure racing glory. \n\n\n\nEvent Details:\n\n\n\n\nWhen: April 4th\n\n\n\nTime: 6:00 PM\n\n\n\nLocation: Regal Cinemas\, 3411 Candlers Mountain Rd\, Lynchburg\, VA 24502\n\n\n\nHosts: Brought to you by Super Rad Arcade Bar and Regal Cinemas\n\n\n\n\n\n\n\n\nGrab your friends and prove once and for all who is the fastest on the track. See you at the starting line! \n\n\n\n\n\n\n\n\n\n\n\n\n\nWhen?\n\n\n\nApril 4th @ 6:00PM\n\n\n\n \n\n\n\n \n\n\n\n\n\nWhere?\n\n\n\nThe Super Rad Arcade Bar\n\n\n\n58 9th St.\, Lynchburg\, Virginia 24504 \n\n\n\n\n\n\n\n\n\n\n\n\n\nCOUNTDOWN!\n\n\n\n00Days00Hours00Minutes00Seconds\n\n\n\n\n\n\n\n\n\n\n\n\n\nShare this event\n\n\n\n    \n        \n            \n                                    \n                        \n                                                                                        Facebook\n                                                    \n                    \n                                    \n                        \n                                                                                        Linkedin
URL:https://thesuperradarcade.com/event/%f0%9f%8f%8e%ef%b8%8f-mario-kart-night-regal-cinemas-takeover/
ATTACH;FMTTYPE=image/jpeg:https://thesuperradarcade.com/wp-content/uploads/2026/03/ofdgamenights_1774038922_3857235203857352715_49813637176.jpg
END:VEVENT
BEGIN:VEVENT
DTSTART;TZID=America/New_York:20260404T190000
DTEND;TZID=America/New_York:20260404T230000
DTSTAMP:20260423T085930
CREATED:20260321T014823Z
LAST-MODIFIED:20260321T014855Z
UID:21005-1775329200-1775343600@thesuperradarcade.com
SUMMARY:Noise\, Sludge\, & Grime: KEN mode\, Plutonium Womb\, & More!
DESCRIPTION:Noise\, Sludge\, & Grime: KEN mode\, Plutonium Womb\, & More!\n\n\n\n\n\n\n\n\n\n\n\n\n\n\n\nLynchburg\, clear your schedule for a massive Saturday night! On April 4th\, we are bringing a heavy-hitting\, six-band lineup to the arcade that covers everything from noise rock to experimental sludge. \n\n\n\nHeadlining the night is the relentless KEN mode (and you were close—it’s stylized as KEN mode\, standing for “Kill Everyone Now” mode). They are joined by a stacked roster of sonic intensity\, including Plutonium Womb\, Dog Scream\, Laus\, Mountain of Woe\, and Naked Movie Star. \n\n\n\nWhether you’re here for the crushing riffs or to blow off steam on the cabinets\, this is the place to be. Your entry fee gets you the full show plus unlimited arcade games all night long! \n\n\n\n\n\n\n\nEvent Details:\n\n\n\nAges: All Ages Welcome \n\n\n\nWho: KEN mode\, Plutonium Womb\, Dog Scream\, Laus\, Mountain of Woe\, and Naked Movie Star \n\n\n\nWhen: Saturday\, April 4th\, 2026 \n\n\n\nTime: 7:00 PM \n\n\n\nAdmission: $15 \n\n\n\n\n\n\n\n\n\n\n\n\n\nWhen?\n\n\n\nApril 4th @ 7PM – 11pM\n\n\n\nADMISSION: $15 \n\n\n\n \n\n\n\n\n\nWhere?\n\n\n\nThe Super Rad Arcade Bar\n\n\n\n58 9th St.\, Lynchburg\, Virginia 24504 \n\n\n\n\n\n\n\n\n\n\n\n\n\nCOUNTDOWN!\n\n\n\n00Days00Hours00Minutes00Seconds\n\n\n\n\n\n\n\n\n\n\n\n\n\nShare this event\n\n\n\n    \n        \n            \n                                    \n                        \n                                                                                        Facebook\n                                                    \n                    \n                                    \n                        \n                                                                                        Linkedin
URL:https://thesuperradarcade.com/event/noise-sludge-grime-ken-mode-plutonium-womb-more/
LOCATION:Super Rad Arcade Bar\, 58 9th St\, Lynchburg\, VA\, 24504\, United States
ATTACH;FMTTYPE=image/jpeg:https://thesuperradarcade.com/wp-content/uploads/2026/03/superradarcade_1773333092_3851319497366562450_59771099965.jpg
END:VEVENT
END:VCALENDAR