BEGIN:VCALENDAR
VERSION:2.0
PRODID:-//Super Rad Arcade Bar - ECPv6.15.20//NONSGML v1.0//EN
CALSCALE:GREGORIAN
METHOD:PUBLISH
X-ORIGINAL-URL:https://thesuperradarcade.com
X-WR-CALDESC:Events for Super Rad Arcade Bar
REFRESH-INTERVAL;VALUE=DURATION:PT1H
X-Robots-Tag:noindex
X-PUBLISHED-TTL:PT1H
BEGIN:VTIMEZONE
TZID:America/New_York
BEGIN:DAYLIGHT
TZOFFSETFROM:-0500
TZOFFSETTO:-0400
TZNAME:EDT
DTSTART:20250309T070000
END:DAYLIGHT
BEGIN:STANDARD
TZOFFSETFROM:-0400
TZOFFSETTO:-0500
TZNAME:EST
DTSTART:20251102T060000
END:STANDARD
BEGIN:DAYLIGHT
TZOFFSETFROM:-0500
TZOFFSETTO:-0400
TZNAME:EDT
DTSTART:20260308T070000
END:DAYLIGHT
BEGIN:STANDARD
TZOFFSETFROM:-0400
TZOFFSETTO:-0500
TZNAME:EST
DTSTART:20261101T060000
END:STANDARD
BEGIN:DAYLIGHT
TZOFFSETFROM:-0500
TZOFFSETTO:-0400
TZNAME:EDT
DTSTART:20270314T070000
END:DAYLIGHT
BEGIN:STANDARD
TZOFFSETFROM:-0400
TZOFFSETTO:-0500
TZNAME:EST
DTSTART:20271107T060000
END:STANDARD
END:VTIMEZONE
BEGIN:VEVENT
DTSTART;TZID=America/New_York:20260401T200000
DTEND;TZID=America/New_York:20260401T233000
DTSTAMP:20260423T085930
CREATED:20260326T202512Z
LAST-MODIFIED:20260326T205532Z
UID:21047-1775073600-1775086200@thesuperradarcade.com
SUMMARY:J-Rock Overdrive: Kazha & 501 Coyotes Live!
DESCRIPTION:Essential Blocks Advanced Heading\n\n\n\n\n\n\n\n\n\n\n\n\n\n\n\nGet ready for a Wednesday night that brings the power! On April 1st\, we are stoked to host the high-energy Japanese rock band Kazha as they bring their international tour to the arcade. \n\n\n\nJoining them are local favorites 501 Coyotes\, bringing their unique blend of punk-infused soul to the stage. Whether you’re here for the anthems or to crush some buttons\, this is the place to be. As always\, your entry includes unlimited arcade games all night long! \n\n\n\n\n\n\n\nEvent Details:\n\n\n\n\nWho: Kazha and 501 Coyotes\n\n\n\nWhen: Wednesday\, April 1st\, 2026\n\n\n\nDoors: 6:00 PM\n\n\n\nMusic: 8:00 PM\n\n\n\nAdmission: $15\n\n\n\nAges: All Ages Welcome\n\n\n\nAt Super Rad Arcade Bar\n\n\n\n\n\n\n\n\nDon’t miss this massive mid-week show. Grab your tickets at the door and we’ll see you at the cabinets! \n\n\n\n\n\n\n\n\n\n\n\n\n\nWhen?\n\n\n\nApril 1st @ 8PM – 11pM\n\n\n\nADMISSION: $15 \n\n\n\n \n\n\n\n\n\nWhere?\n\n\n\nThe Super Rad Arcade Bar\n\n\n\n58 9th St.\, Lynchburg\, Virginia 24504 \n\n\n\n\n\n\n\n\n\n\n\n\n\nCOUNTDOWN!\n\n\n\n00Days00Hours00Minutes00Seconds\n\n\n\n\n\n\n\n\n\n\n\n\n\nShare this event\n\n\n\n    \n        \n            \n                                    \n                        \n                                                                                        Facebook\n                                                    \n                    \n                                    \n                        \n                                                                                        Linkedin
URL:https://thesuperradarcade.com/event/j-rock-overdrive-kazha-501-coyotes-live/
LOCATION:Super Rad Arcade Bar\, 58 9th St\, Lynchburg\, VA\, 24504\, United States
ATTACH;FMTTYPE=image/jpeg:https://thesuperradarcade.com/wp-content/uploads/2026/03/659398155_865709396523728_458564271433828521_n.jpg
END:VEVENT
END:VCALENDAR